Workbook

Sheet Útmutató
B2: Tankolási napló – Kalkfox
B4: Tankolások, valós fogyasztás és üzemanyagköltség követése egy helyen.
B6: Hogyan használd?
B7: 1. Beállítások: írd be az autód nevét és a gyári fogyasztását (nem kötelező).
B8: 2. Tankolások: minden tankolásnál írd be a dátumot, a kilométeróra állását, a tankolt mennyiséget és a literárat.
B9: 3. Mindig tankolj tele! A fogyasztást a két teli tankolás közötti mennyiségből számolja (teli tankos módszer). Ha egyszer nem teli tankot tankolsz, a Teli tank oszlopba írj Nem-et, ilyenkor a táblázat a következő teli tankolásnál összevonja a kettőt.
B10: 4. Áttekintés: átlagos fogyasztás, összes költség, havi kiadás és grafikonok.
B12: Tippek
B13: Az első sor a kiinduló tankolás: ennél még nem tud fogyasztást számolni, csak a kilométeróra-állást rögzíti.
B14: Példa egy tankolásra: 2026.10.05 | 84210 | 38,5 | 612 | Igen. A fizetett összeget, a megtett km-t és a fogyasztást a táblázat magától kiszámolja.
B15: Útiköltség és fogyasztás kalkulátor: kalkfox.com/hu/utikoltseg-kalkulator és kalkfox.com/hu/fogyasztas-kalkulator
B17: Színkódok
... B21: Ingyenes sablon a kalkfox.com oldalról. Kalkulátorok és további sablonok: kalkfox.com

Sheet Áttekintés
A1: Áttekintés
A2: =Beállítások!B2 -> Az én autóm
A4: Összes megtett km | B4: =IFERROR(SUM(Tankolások!$G$2:$G$401),0) -> 0
A5: Átlagos valós fogyasztás (l/100 km) | B5: =IFERROR(SUMIFS(Tankolások!$C$2:$C$401,Tankolások!$B$2:$B$401,">"&MIN(Tankolások!$B$2:$B$401))/SUM(Tankolások!$G$2:$G$401)*100,"")
A6: Gyári fogyasztás (l/100 km) | B6: =IF(Beállítások!B3="","",Beállítások!B3)
A7: Eltérés a gyáritól | B7: =IFERROR(IF(OR(B5="",B6=""),"",B5/B6-1),"")
A8: Összesen tankolva (Ft) | B8: =SUM(Tankolások!$F$2:$F$401) -> 0
A9: Átlagos költség (Ft/km) | B9: =IFERROR(SUMIFS(Tankolások!$F$2:$F$401,Tankolások!$B$2:$B$401,">"&MIN(Tankolások!$B$2:$B$401))/SUM(Tankolások!$G$2:$G$401),"")
A10: Átlagos literár (Ft/l) | B10: =IFERROR(SUM(Tankolások!$F$2:$F$401)/SUM(Tankolások!$C$2:$C$401),"")
A13: Havi üzemanyagköltség | B13: 2026 | C13: ← év
A14: Hónap | B14: Költség
A15: Január | B15: =SUMIFS(Tankolások!$F$2:$F$401,Tankolások!$A$2:$A$401,">="&DATE($B$13,1,1),Tankolások!$A$2:$A$401,"<"&DATE($B$13,2,1)) -> 0
A16: Február | B16: =SUMIFS(Tankolások!$F$2:$F$401,Tankolások!$A$2:$A$401,">="&DATE($B$13,2,1),Tankolások!$A$2:$A$401,"<"&DATE($B$13,3,1)) -> 0
A17: Március | B17: =SUMIFS(Tankolások!$F$2:$F$401,Tankolások!$A$2:$A$401,">="&DATE($B$13,3,1),Tankolások!$A$2:$A$401,"<"&DATE($B$13,4,1)) -> 0
A18: Április | B18: =SUMIFS(Tankolások!$F$2:$F$401,Tankolások!$A$2:$A$401,">="&DATE($B$13,4,1),Tankolások!$A$2:$A$401,"<"&DATE($B$13,5,1)) -> 0
A19: Május | B19: =SUMIFS(Tankolások!$F$2:$F$401,Tankolások!$A$2:$A$401,">="&DATE($B$13,5,1),Tankolások!$A$2:$A$401,"<"&DATE($B$13,6,1)) -> 0
A20: Június | B20: =SUMIFS(Tankolások!$F$2:$F$401,Tankolások!$A$2:$A$401,">="&DATE($B$13,6,1),Tankolások!$A$2:$A$401,"<"&DATE($B$13,7,1)) -> 0
A21: Július | B21: =SUMIFS(Tankolások!$F$2:$F$401,Tankolások!$A$2:$A$401,">="&DATE($B$13,7,1),Tankolások!$A$2:$A$401,"<"&DATE($B$13,8,1)) -> 0
A22: Augusztus | B22: =SUMIFS(Tankolások!$F$2:$F$401,Tankolások!$A$2:$A$401,">="&DATE($B$13,8,1),Tankolások!$A$2:$A$401,"<"&DATE($B$13,9,1)) -> 0
A23: Szeptember | B23: =SUMIFS(Tankolások!$F$2:$F$401,Tankolások!$A$2:$A$401,">="&DATE($B$13,9,1),Tankolások!$A$2:$A$401,"<"&DATE($B$13,10,1)) -> 0
A24: Október | B24: =SUMIFS(Tankolások!$F$2:$F$401,Tankolások!$A$2:$A$401,">="&DATE($B$13,10,1),Tankolások!$A$2:$A$401,"<"&DATE($B$13,11,1)) -> 0
A25: November | B25: =SUMIFS(Tankolások!$F$2:$F$401,Tankolások!$A$2:$A$401,">="&DATE($B$13,11,1),Tankolások!$A$2:$A$401,"<"&DATE($B$13,12,1)) -> 0
A26: December | B26: =SUMIFS(Tankolások!$F$2:$F$401,Tankolások!$A$2:$A$401,">="&DATE($B$13,12,1),Tankolások!$A$2:$A$401,"<"&DATE($B$13,13,1)) -> 0

Sheet Beállítások
A1: Beállítás | B1: Érték | C1: Megjegyzés
A2: Autó neve | B2: Az én autóm | C2: Bármi, csak neked szól.
A3: Gyári fogyasztás (l/100 km) | C3: Nem kötelező. Ha megadod, összeveti a valós átlaggal.

Sheet Tankolások
A1: Dátum | B1: Km-óra állás | C1: Tankolt mennyiség (l) | D1: Ár (Ft/l) | E1: Teli tank? | F1: Fizetett összeg | G1: Megtett km | H1: Fogyasztás (l/100 km) | I1: Költség (Ft/km) | J1: Megjegyzés
F2: =IF(OR(C2="",D2=""),"",C2*D2)
F3: =IF(OR(C3="",D3=""),"",C3*D3) | G3: =IF(OR(B3="",E3<>"Igen",COUNTIF($E$2:E2,"Igen")=0),"",B3-_xlfn.MAXIFS($B$2:B2,$E$2:E2,"Igen")) | H3: =IF(OR(G3="",G3<=0),"",SUMIFS($C$2:C3,$B$2:B3,">"&_xlfn.MAXIFS($B$2:B2,$E$2:E2,"Igen"))/G3*100) | I3: =IF(OR(G3="",G3<=0),"",SUMIFS($F$2:F3,$B$2:B3,">"&_xlfn.MAXIFS($B$2:B2,$E$2:E2,"Igen"))/G3)
F4: =IF(OR(C4="",D4=""),"",C4*D4) | G4: =IF(OR(B4="",E4<>"Igen",COUNTIF($E$2:E3,"Igen")=0),"",B4-_xlfn.MAXIFS($B$2:B3,$E$2:E3,"Igen")) | H4: =IF(OR(G4="",G4<=0),"",SUMIFS($C$2:C4,$B$2:B4,">"&_xlfn.MAXIFS($B$2:B3,$E$2:E3,"Igen"))/G4*100) | I4: =IF(OR(G4="",G4<=0),"",SUMIFS($F$2:F4,$B$2:B4,">"&_xlfn.MAXIFS($B$2:B3,$E$2:E3,"Igen"))/G4)
F5: =IF(OR(C5="",D5=""),"",C5*D5) | G5: =IF(OR(B5="",E5<>"Igen",COUNTIF($E$2:E4,"Igen")=0),"",B5-_xlfn.MAXIFS($B$2:B4,$E$2:E4,"Igen")) | H5: =IF(OR(G5="",G5<=0),"",SUMIFS($C$2:C5,$B$2:B5,">"&_xlfn.MAXIFS($B$2:B4,$E$2:E4,"Igen"))/G5*100) | I5: =IF(OR(G5="",G5<=0),"",SUMIFS($F$2:F5,$B$2:B5,">"&_xlfn.MAXIFS($B$2:B4,$E$2:E4,"Igen"))/G5)
F6: =IF(OR(C6="",D6=""),"",C6*D6) | G6: =IF(OR(B6="",E6<>"Igen",COUNTIF($E$2:E5,"Igen")=0),"",B6-_xlfn.MAXIFS($B$2:B5,$E$2:E5,"Igen")) | H6: =IF(OR(G6="",G6<=0),"",SUMIFS($C$2:C6,$B$2:B6,">"&_xlfn.MAXIFS($B$2:B5,$E$2:E5,"Igen"))/G6*100) | I6: =IF(OR(G6="",G6<=0),"",SUMIFS($F$2:F6,$B$2:B6,">"&_xlfn.MAXIFS($B$2:B5,$E$2:E5,"Igen"))/G6)
F7: =IF(OR(C7="",D7=""),"",C7*D7) | G7: =IF(OR(B7="",E7<>"Igen",COUNTIF($E$2:E6,"Igen")=0),"",B7-_xlfn.MAXIFS($B$2:B6,$E$2:E6,"Igen")) | H7: =IF(OR(G7="",G7<=0),"",SUMIFS($C$2:C7,$B$2:B7,">"&_xlfn.MAXIFS($B$2:B6,$E$2:E6,"Igen"))/G7*100) | I7: =IF(OR(G7="",G7<=0),"",SUMIFS($F$2:F7,$B$2:B7,">"&_xlfn.MAXIFS($B$2:B6,$E$2:E6,"Igen"))/G7)
F8: =IF(OR(C8="",D8=""),"",C8*D8) | G8: =IF(OR(B8="",E8<>"Igen",COUNTIF($E$2:E7,"Igen")=0),"",B8-_xlfn.MAXIFS($B$2:B7,$E$2:E7,"Igen")) | H8: =IF(OR(G8="",G8<=0),"",SUMIFS($C$2:C8,$B$2:B8,">"&_xlfn.MAXIFS($B$2:B7,$E$2:E7,"Igen"))/G8*100) | I8: =IF(OR(G8="",G8<=0),"",SUMIFS($F$2:F8,$B$2:B8,">"&_xlfn.MAXIFS($B$2:B7,$E$2:E7,"Igen"))/G8)
F9: =IF(OR(C9="",D9=""),"",C9*D9) | G9: =IF(OR(B9="",E9<>"Igen",COUNTIF($E$2:E8,"Igen")=0),"",B9-_xlfn.MAXIFS($B$2:B8,$E$2:E8,"Igen")) | H9: =IF(OR(G9="",G9<=0),"",SUMIFS($C$2:C9,$B$2:B9,">"&_xlfn.MAXIFS($B$2:B8,$E$2:E8,"Igen"))/G9*100) | I9: =IF(OR(G9="",G9<=0),"",SUMIFS($F$2:F9,$B$2:B9,">"&_xlfn.MAXIFS($B$2:B8,$E$2:E8,"Igen"))/G9)
F10: =IF(OR(C10="",D10=""),"",C10*D10) | G10: =IF(OR(B10="",E10<>"Igen",COUNTIF($E$2:E9,"Igen")=0),"",B10-_xlfn.MAXIFS($B$2:B9,$E$2:E9,"Igen")) | H10: =IF(OR(G10="",G10<=0),"",SUMIFS($C$2:C10,$B$2:B10,">"&_xlfn.MAXIFS($B$2:B9,$E$2:E9,"Igen"))/G10*100) | I10: =IF(OR(G10="",G10<=0),"",SUMIFS($F$2:F10,$B$2:B10,">"&_xlfn.MAXIFS($B$2:B9,$E$2:E9,"Igen"))/G10)
F11: =IF(OR(C11="",D11=""),"",C11*D11) | G11: =IF(OR(B11="",E11<>"Igen",COUNTIF($E$2:E10,"Igen")=0),"",B11-_xlfn.MAXIFS($B$2:B10,$E$2:E10,"Igen")) | H11: =IF(OR(G11="",G11<=0),"",SUMIFS($C$2:C11,$B$2:B11,">"&_xlfn.MAXIFS($B$2:B10,$E$2:E10,"Igen"))/G11*100) | I11: =IF(OR(G11="",G11<=0),"",SUMIFS($F$2:F11,$B$2:B11,">"&_xlfn.MAXIFS($B$2:B10,$E$2:E10,"Igen"))/G11)
F12: =IF(OR(C12="",D12=""),"",C12*D12) | G12: =IF(OR(B12="",E12<>"Igen",COUNTIF($E$2:E11,"Igen")=0),"",B12-_xlfn.MAXIFS($B$2:B11,$E$2:E11,"Igen")) | H12: =IF(OR(G12="",G12<=0),"",SUMIFS($C$2:C12,$B$2:B12,">"&_xlfn.MAXIFS($B$2:B11,$E$2:E11,"Igen"))/G12*100) | I12: =IF(OR(G12="",G12<=0),"",SUMIFS($F$2:F12,$B$2:B12,">"&_xlfn.MAXIFS($B$2:B11,$E$2:E11,"Igen"))/G12)
F13: =IF(OR(C13="",D13=""),"",C13*D13) | G13: =IF(OR(B13="",E13<>"Igen",COUNTIF($E$2:E12,"Igen")=0),"",B13-_xlfn.MAXIFS($B$2:B12,$E$2:E12,"Igen")) | H13: =IF(OR(G13="",G13<=0),"",SUMIFS($C$2:C13,$B$2:B13,">"&_xlfn.MAXIFS($B$2:B12,$E$2:E12,"Igen"))/G13*100) | I13: =IF(OR(G13="",G13<=0),"",SUMIFS($F$2:F13,$B$2:B13,">"&_xlfn.MAXIFS($B$2:B12,$E$2:E12,"Igen"))/G13)
F14: =IF(OR(C14="",D14=""),"",C14*D14) | G14: =IF(OR(B14="",E14<>"Igen",COUNTIF($E$2:E13,"Igen")=0),"",B14-_xlfn.MAXIFS($B$2:B13,$E$2:E13,"Igen")) | H14: =IF(OR(G14="",G14<=0),"",SUMIFS($C$2:C14,$B$2:B14,">"&_xlfn.MAXIFS($B$2:B13,$E$2:E13,"Igen"))/G14*100) | I14: =IF(OR(G14="",G14<=0),"",SUMIFS($F$2:F14,$B$2:B14,">"&_xlfn.MAXIFS($B$2:B13,$E$2:E13,"Igen"))/G14)
... F401: =IF(OR(C401="",D401=""),"",C401*D401) | G401: =IF(OR(B401="",E401<>"Igen",COUNTIF($E$2:E400,"Igen")=0),"",B401-_xlfn.MAXIFS($B$2:B400,$E$2:E400,"Igen")) | H401: =IF(OR(G401="",G401<=0),"",SUMIFS($C$2:C401,$B$2:B401,">"&_xlfn.MAXIFS($B$2:B400,$E$2:E400,"Igen"))/G401*100) | I401: =IF(OR(G401="",G401<=0),"",SUMIFS($F$2:F401,$B$2:B401,">"&_xlfn.MAXIFS($B$2:B400,$E$2:E400,"Igen"))/G401)
